BEGIN:VCALENDAR
VERSION:2.0
PRODID:spatie/icalendar-generator
DESCRIPTION:Veranstaltungen von Rosendorf
X-WR-CALDESC:Veranstaltungen von Rosendorf
REFRESH-INTERVAL;VALUE=DURATION:PT1440M
X-PUBLISHED-TTL:PT1440M
BEGIN:VTIMEZONE
TZID:Europe/Berlin
BEGIN:STANDARD
DTSTART:20251026T030000Z
TZOFFSETFROM:+0200
TZOFFSETTO:+0100
END:STANDARD
BEGIN:DAYLIGHT
DTSTART:20260329T020000Z
TZOFFSETFROM:+0100
TZOFFSETTO:+0200
END:DAYLIGHT
BEGIN:STANDARD
DTSTART:20261025T030000Z
TZOFFSETFROM:+0200
TZOFFSETTO:+0100
END:STANDARD
END:VTIMEZONE
BEGIN:VTIMEZONE
TZID:UTC
BEGIN:STANDARD
DTSTART:20250729T014749Z
TZOFFSETFROM:+0000
TZOFFSETTO:+0000
END:STANDARD
END:VTIMEZONE
BEGIN:VEVENT
UID:105-61
DTSTAMP:20260425T014749Z
SUMMARY:Kompostaktion für die Rosendorf-Community
LOCATION:
ORGANIZER;CN=Rosendorf:MAILTO:rosendorf@steintormasch.de
DTSTART;TZID=Europe/Berlin:20260521T150000
DTEND;TZID=Europe/Berlin:20260521T170000
X-ALT-DESC;FMTTYPE=TEXT/HTML:Liebe Rosendorferinnen und Rosendorfer\, auf W
 unsch vieler Pächterinnen und Pächter unserer Kolonie\, wird es wieder e
 ine Kompostlieferung in der Kolonie Rosendorf geben. Der angelieferte Komp
 ost soll nicht dazu dienen\, die Hochbeete zu befüllen. Vielmehr ist er z
 ur Bodenverbesserung unserer Obst- und Gemüsebeete bestimmt. Wenn wir uns
  alle an diese Maxime halten\, dann wird sicherlich für&amp;hellip\;
CATEGORIES:Gemeinschaftsarbeit Kolonie Rosendorf
URL;VALUE=URI:https://www.steintormasch.de/rosendorf/termine/?mc_id=105&amp;#03
 8;vcal=105
METHOD:PUBLISH
END:VEVENT
END:VCALENDAR