BEGIN:VCALENDAR
VERSION:2.0
PRODID:spatie/icalendar-generator
DESCRIPTION:Veranstaltungen von Rosendorf
X-WR-CALDESC:Veranstaltungen von Rosendorf
REFRESH-INTERVAL;VALUE=DURATION:PT1440M
X-PUBLISHED-TTL:PT1440M
BEGIN:VTIMEZONE
TZID:Europe/Berlin
BEGIN:STANDARD
DTSTART:20251026T030000Z
TZOFFSETFROM:+0200
TZOFFSETTO:+0100
END:STANDARD
BEGIN:DAYLIGHT
DTSTART:20260329T020000Z
TZOFFSETFROM:+0100
TZOFFSETTO:+0200
END:DAYLIGHT
BEGIN:STANDARD
DTSTART:20261025T030000Z
TZOFFSETFROM:+0200
TZOFFSETTO:+0100
END:STANDARD
END:VTIMEZONE
BEGIN:VTIMEZONE
TZID:UTC
BEGIN:STANDARD
DTSTART:20250729T013537Z
TZOFFSETFROM:+0000
TZOFFSETTO:+0000
END:STANDARD
END:VTIMEZONE
BEGIN:VEVENT
UID:70-52
DTSTAMP:20260425T013537Z
SUMMARY:Das Eis Fahrrad kommt!
LOCATION:
ORGANIZER;CN=Rosendorf:MAILTO:rosendorf@steintormasch.de
DTSTART;TZID=Europe/Berlin:20260613T150000
DTEND;TZID=Europe/Berlin:20260613T170000
X-ALT-DESC;FMTTYPE=TEXT/HTML:Am 13.06.2026 kommt das Eis-Fahrrad zu uns in 
 die Kolonie… Liebe kleine Rosendorfer und liebe große Rosendorfer\, in 
 der Zeit von 15:00 bis 17:00 Uhr könnt Ihr wieder köstliche Eissorten au
 s der Eismanufaktur Birne &amp;amp\; Beere unentgeltlich zu Euch nehmen. Wir f
 reuen uns schon\, auf zahlreiches Erscheinen Eurerseits. Bitte habt Verst
 ändnis\, das diese Aktion nur&amp;hellip\;
CATEGORIES:Kolonie Rosendorf
URL;VALUE=URI:https://www.steintormasch.de/rosendorf/termine/?mc_id=70&amp;#038
 ;vcal=70
METHOD:PUBLISH
END:VEVENT
END:VCALENDAR