BEGIN:VCALENDAR
VERSION:2.0
PRODID:spatie/icalendar-generator
DESCRIPTION:Veranstaltungen von Rosendorf
X-WR-CALDESC:Veranstaltungen von Rosendorf
REFRESH-INTERVAL;VALUE=DURATION:PT1440M
X-PUBLISHED-TTL:PT1440M
BEGIN:VTIMEZONE
TZID:Europe/Berlin
BEGIN:DAYLIGHT
DTSTART:20260329T020000Z
TZOFFSETFROM:+0100
TZOFFSETTO:+0200
END:DAYLIGHT
BEGIN:STANDARD
DTSTART:20261025T030000Z
TZOFFSETFROM:+0200
TZOFFSETTO:+0100
END:STANDARD
END:VTIMEZONE
BEGIN:VTIMEZONE
TZID:UTC
BEGIN:STANDARD
DTSTART:20250729T014911Z
TZOFFSETFROM:+0000
TZOFFSETTO:+0000
END:STANDARD
END:VTIMEZONE
BEGIN:VEVENT
UID:72-54
DTSTAMP:20260425T014911Z
SUMMARY:5. Sommer Event / Sommerfest der Kolonie Rosendorf
LOCATION:
ORGANIZER;CN=Rosendorf:MAILTO:rosendorf@steintormasch.de
DTSTART;TZID=Europe/Berlin:20260822T000000
DTEND;TZID=Europe/Berlin:20260822T010000
X-ALT-DESC;FMTTYPE=TEXT/HTML:Weitere Infos Folgen \;)
CATEGORIES:Kolonie Rosendorf
URL;VALUE=URI:https://www.steintormasch.de/rosendorf/termine/?mc_id=72&amp;#038
 ;vcal=72
METHOD:PUBLISH
END:VEVENT
END:VCALENDAR