BEGIN:VCALENDAR
VERSION:2.0
PRODID:spatie/icalendar-generator
DESCRIPTION:Veranstaltungen von Rosendorf
X-WR-CALDESC:Veranstaltungen von Rosendorf
REFRESH-INTERVAL;VALUE=DURATION:PT1440M
X-PUBLISHED-TTL:PT1440M
BEGIN:VTIMEZONE
TZID:Europe/Berlin
BEGIN:STANDARD
DTSTART:20251026T030000Z
TZOFFSETFROM:+0200
TZOFFSETTO:+0100
END:STANDARD
BEGIN:DAYLIGHT
DTSTART:20260329T020000Z
TZOFFSETFROM:+0100
TZOFFSETTO:+0200
END:DAYLIGHT
BEGIN:STANDARD
DTSTART:20261025T030000Z
TZOFFSETFROM:+0200
TZOFFSETTO:+0100
END:STANDARD
END:VTIMEZONE
BEGIN:VTIMEZONE
TZID:UTC
BEGIN:STANDARD
DTSTART:20250729T014206Z
TZOFFSETFROM:+0000
TZOFFSETTO:+0000
END:STANDARD
END:VTIMEZONE
BEGIN:VEVENT
UID:84-3
DTSTAMP:20260425T014206Z
SUMMARY:Jahreshauptversammlung 2026
LOCATION:Café Steintormasch In der Steintormasch 5  Hannover  30167
ORGANIZER;CN=steintormasch-admin:MAILTO:markus@soeth.de
DTSTART;TZID=Europe/Berlin:20260618T180000
DTEND;TZID=Europe/Berlin:20260618T200000
X-ALT-DESC;FMTTYPE=TEXT/HTML:Die Jahreshauptversammlung des KGV Vereinigte 
 Steintormasch e.V. findet am 18. Juni 2026 um 18.00 im Café Steintormasch
  statt.
CATEGORIES:Verein
URL;VALUE=URI:https://www.steintormasch.de/rosendorf/termine/?mc_id=84&amp;#038
 ;vcal=84
METHOD:PUBLISH
END:VEVENT
END:VCALENDAR